BEGIN:VCALENDAR
VERSION:2.0
PRODID:-//San Francisco Bay Times - ECPv5.1.0//NONSGML v1.0//EN
CALSCALE:GREGORIAN
METHOD:PUBLISH
X-WR-CALNAME:San Francisco Bay Times
X-ORIGINAL-URL:https://sfbaytimes.com
X-WR-CALDESC:Events for San Francisco Bay Times
BEGIN:VTIMEZONE
TZID:America/Los_Angeles
BEGIN:DAYLIGHT
TZOFFSETFROM:-0800
TZOFFSETTO:-0700
TZNAME:PDT
DTSTART:20170312T100000
END:DAYLIGHT
BEGIN:STANDARD
TZOFFSETFROM:-0700
TZOFFSETTO:-0800
TZNAME:PST
DTSTART:20171105T090000
END:STANDARD
END:VTIMEZONE
BEGIN:VEVENT
DTSTART;TZID=America/Los_Angeles:20170918T190000
DTEND;TZID=America/Los_Angeles:20170918T190000
DTSTAMP:20260422T020154
CREATED:20170912T221825Z
LAST-MODIFIED:20170912T221825Z
UID:14171-1505761200-1505761200@sfbaytimes.com
SUMMARY:Panel Discussion: LGBT Immigration
DESCRIPTION:@ Strut\, 470 Castro Street. Strut and The LGBT Asylum Project present an international music performance and panel discussion\, hosted by Donna Sachet and moderated by Adam Sandel\, talking about LGBT survival\, resilience and the diversity that immigration brings to our community. 7pm. strut.org \n
URL:https://sfbaytimes.com/event/panel-discussion-lgbt-immigration/
END:VEVENT
END:VCALENDAR