BEGIN:VCALENDAR
VERSION:2.0
PRODID:-//San Francisco Bay Times - ECPv5.1.0//NONSGML v1.0//EN
CALSCALE:GREGORIAN
METHOD:PUBLISH
X-WR-CALNAME:San Francisco Bay Times
X-ORIGINAL-URL:https://sfbaytimes.com
X-WR-CALDESC:Events for San Francisco Bay Times
BEGIN:VTIMEZONE
TZID:America/Los_Angeles
BEGIN:DAYLIGHT
TZOFFSETFROM:-0800
TZOFFSETTO:-0700
TZNAME:PDT
DTSTART:20170312T100000
END:DAYLIGHT
BEGIN:STANDARD
TZOFFSETFROM:-0700
TZOFFSETTO:-0800
TZNAME:PST
DTSTART:20171105T090000
END:STANDARD
END:VTIMEZONE
BEGIN:VEVENT
DTSTART;TZID=America/Los_Angeles:20170616T120000
DTEND;TZID=America/Los_Angeles:20170616T170000
DTSTAMP:20260423T203321
CREATED:20170607T220701Z
LAST-MODIFIED:20170607T220701Z
UID:12513-1497614400-1497632400@sfbaytimes.com
SUMMARY:Paws & Claws 13th Anniversary Celebration
DESCRIPTION:@ Paws & Claws\, 3435 Diamond\, Oakland. Event features door prizes\, goodie bags\, music\, pet training\, photography\, snacks for humans\, pets and more. pawsnclawsoakland.com \n
URL:https://sfbaytimes.com/event/paws-claws-13th-anniversary-celebration/
END:VEVENT
END:VCALENDAR