BEGIN:VCALENDAR
VERSION:2.0
PRODID:-//San Francisco Bay Times - ECPv5.1.0//NONSGML v1.0//EN
CALSCALE:GREGORIAN
METHOD:PUBLISH
X-WR-CALNAME:San Francisco Bay Times
X-ORIGINAL-URL:https://sfbaytimes.com
X-WR-CALDESC:Events for San Francisco Bay Times
BEGIN:VTIMEZONE
TZID:America/Los_Angeles
BEGIN:DAYLIGHT
TZOFFSETFROM:-0800
TZOFFSETTO:-0700
TZNAME:PDT
DTSTART:20170312T100000
END:DAYLIGHT
BEGIN:STANDARD
TZOFFSETFROM:-0700
TZOFFSETTO:-0800
TZNAME:PST
DTSTART:20171105T090000
END:STANDARD
END:VTIMEZONE
BEGIN:VEVENT
DTSTART;TZID=America/Los_Angeles:20170710T090000
DTEND;TZID=America/Los_Angeles:20170710T090000
DTSTAMP:20260421T174753
CREATED:20170620T214554Z
LAST-MODIFIED:20170620T214554Z
UID:12777-1499677200-1499677200@sfbaytimes.com
SUMMARY:Peninsula Women’s Caucus for Art Exhibit: Visions
DESCRIPTION:@ Milton Marks Conference Center Galleries\, 455 Golden Gate Avenue. The exhibit includes works inspired by unseen forces of the unconscious mind\, reflecting inner visions\, ephemeral feelings and fantasies. 9am-5pm. wcapeninsula.org \n
URL:https://sfbaytimes.com/event/peninsula-womens-caucus-for-art-exhibit-visions/
END:VEVENT
END:VCALENDAR