BEGIN:VCALENDAR
VERSION:2.0
PRODID:-//San Francisco Bay Times - ECPv5.1.0//NONSGML v1.0//EN
CALSCALE:GREGORIAN
METHOD:PUBLISH
X-WR-CALNAME:San Francisco Bay Times
X-ORIGINAL-URL:https://sfbaytimes.com
X-WR-CALDESC:Events for San Francisco Bay Times
BEGIN:VTIMEZONE
TZID:America/Los_Angeles
BEGIN:DAYLIGHT
TZOFFSETFROM:-0800
TZOFFSETTO:-0700
TZNAME:PDT
DTSTART:20170312T100000
END:DAYLIGHT
BEGIN:STANDARD
TZOFFSETFROM:-0700
TZOFFSETTO:-0800
TZNAME:PST
DTSTART:20171105T090000
END:STANDARD
END:VTIMEZONE
BEGIN:VEVENT
DTSTART;VALUE=DATE:20170823
DTEND;VALUE=DATE:20170824
DTSTAMP:20260421T185041
CREATED:20170810T171821Z
LAST-MODIFIED:20170810T171821Z
UID:13720-1503446400-1503532799@sfbaytimes.com
SUMMARY:Perfectly Queer East Bay: Dispatches from Lesbian America
DESCRIPTION:@ Nomadic Press\, 2301 Telegraph Avenue\, Oakland. Readings and book signings by anthology contributors Joan Annsfire\, Xequina Maria Berber\, Biovanna Capone and Bev Jo. nomadicpress.org \n
URL:https://sfbaytimes.com/event/perfectly-queer-east-bay-dispatches-lesbian-america/
END:VEVENT
END:VCALENDAR