BEGIN:VCALENDAR
VERSION:2.0
PRODID:-//San Francisco Bay Times - ECPv5.1.0//NONSGML v1.0//EN
CALSCALE:GREGORIAN
METHOD:PUBLISH
X-WR-CALNAME:San Francisco Bay Times
X-ORIGINAL-URL:https://sfbaytimes.com
X-WR-CALDESC:Events for San Francisco Bay Times
BEGIN:VTIMEZONE
TZID:America/Los_Angeles
BEGIN:DAYLIGHT
TZOFFSETFROM:-0800
TZOFFSETTO:-0700
TZNAME:PDT
DTSTART:20180311T100000
END:DAYLIGHT
BEGIN:STANDARD
TZOFFSETFROM:-0700
TZOFFSETTO:-0800
TZNAME:PST
DTSTART:20181104T090000
END:STANDARD
END:VTIMEZONE
BEGIN:VEVENT
DTSTART;TZID=America/Los_Angeles:20180814T190000
DTEND;TZID=America/Los_Angeles:20180814T190000
DTSTAMP:20260421T004149
CREATED:20180809T035027Z
LAST-MODIFIED:20180809T035027Z
UID:19054-1534273200-1534273200@sfbaytimes.com
SUMMARY:Perfectly Queer: Queer Authors Read Other Queer Authors
DESCRIPTION:@ Dog Eared Books\, 489 Castro Street. Queer authors Jim Provenzano\, Margo Perin\, Baruch Porras-Hernandez and Nona Caspers will read from their favorite queer authors. 7pm. http://www.dogearedbooks.com \n
URL:https://sfbaytimes.com/event/perfectly-queer-queer-authors-read-queer-authors/
END:VEVENT
END:VCALENDAR