BEGIN:VCALENDAR
VERSION:2.0
PRODID:-//San Francisco Bay Times - ECPv5.1.0//NONSGML v1.0//EN
CALSCALE:GREGORIAN
METHOD:PUBLISH
X-WR-CALNAME:San Francisco Bay Times
X-ORIGINAL-URL:https://sfbaytimes.com
X-WR-CALDESC:Events for San Francisco Bay Times
BEGIN:VTIMEZONE
TZID:America/Los_Angeles
BEGIN:DAYLIGHT
TZOFFSETFROM:-0800
TZOFFSETTO:-0700
TZNAME:PDT
DTSTART:20170312T100000
END:DAYLIGHT
BEGIN:STANDARD
TZOFFSETFROM:-0700
TZOFFSETTO:-0800
TZNAME:PST
DTSTART:20171105T090000
END:STANDARD
END:VTIMEZONE
BEGIN:VEVENT
DTSTART;TZID=America/Los_Angeles:20170911T190000
DTEND;TZID=America/Los_Angeles:20170911T190000
DTSTAMP:20260421T153435
CREATED:20170908T211825Z
LAST-MODIFIED:20170908T211825Z
UID:14128-1505156400-1505156400@sfbaytimes.com
SUMMARY:Perfectly Queer: Teachers on Parade
DESCRIPTION:@ Dog Eared Books Castro\, 489 Castro Street. Two of San Francisco’s favorite English professors will read from their works: Daniel Curzon\, author of Sweet\, Sweet Stories; and Margo Perin\, author of The Opposite of Hollywood.  7pm. dogearedbooks.com \n
URL:https://sfbaytimes.com/event/perfectly-queer-teachers-parade/
END:VEVENT
END:VCALENDAR