BEGIN:VCALENDAR
VERSION:2.0
PRODID:-//San Francisco Bay Times - ECPv5.1.0//NONSGML v1.0//EN
CALSCALE:GREGORIAN
METHOD:PUBLISH
X-WR-CALNAME:San Francisco Bay Times
X-ORIGINAL-URL:https://sfbaytimes.com
X-WR-CALDESC:Events for San Francisco Bay Times
BEGIN:VTIMEZONE
TZID:America/Los_Angeles
BEGIN:DAYLIGHT
TZOFFSETFROM:-0800
TZOFFSETTO:-0700
TZNAME:PDT
DTSTART:20180311T100000
END:DAYLIGHT
BEGIN:STANDARD
TZOFFSETFROM:-0700
TZOFFSETTO:-0800
TZNAME:PST
DTSTART:20181104T090000
END:STANDARD
END:VTIMEZONE
BEGIN:VEVENT
DTSTART;TZID=America/Los_Angeles:20180929T183000
DTEND;TZID=America/Los_Angeles:20180929T183000
DTSTAMP:20260419T231903
CREATED:20180923T204320Z
LAST-MODIFIED:20180923T204352Z
UID:19647-1538245800-1538245800@sfbaytimes.com
SUMMARY:Play on the Bay LGBTQ Sunset Cruise
DESCRIPTION:@ Jack London Square\, Oakland. DJ Rockaway presents an evening cruise celebrating the 40th Anniversary of the San Francisco Bay Times. 6:30pm boarding/7pm departure. http://www.djrockaway.com \n
URL:https://sfbaytimes.com/event/play-bay-lgbtq-sunset-cruise/
END:VEVENT
END:VCALENDAR