BEGIN:VCALENDAR
VERSION:2.0
PRODID:-//San Francisco Bay Times - ECPv5.1.0//NONSGML v1.0//EN
CALSCALE:GREGORIAN
METHOD:PUBLISH
X-WR-CALNAME:San Francisco Bay Times
X-ORIGINAL-URL:https://sfbaytimes.com
X-WR-CALDESC:Events for San Francisco Bay Times
BEGIN:VTIMEZONE
TZID:America/Los_Angeles
BEGIN:DAYLIGHT
TZOFFSETFROM:-0800
TZOFFSETTO:-0700
TZNAME:PDT
DTSTART:20180311T100000
END:DAYLIGHT
BEGIN:STANDARD
TZOFFSETFROM:-0700
TZOFFSETTO:-0800
TZNAME:PST
DTSTART:20181104T090000
END:STANDARD
END:VTIMEZONE
BEGIN:VEVENT
DTSTART;TZID=America/Los_Angeles:20180328T183000
DTEND;TZID=America/Los_Angeles:20180328T200000
DTSTAMP:20260423T204458
CREATED:20180321T175140Z
LAST-MODIFIED:20180321T175140Z
UID:17198-1522261800-1522267200@sfbaytimes.com
SUMMARY:Poetry Reading in Celebration of Muni Art 2018: Charif Shanahan
DESCRIPTION:@ SF Public Library North Beach Branch\, 850 Columbus Avenue.  In celebration of Muni Art 2018\, poet and award-winning author Charif Shanahan will present a reading co-sponsored by the SF Public Library\, San Francisco Beautiful\, SF Municipal Transportation Agency and the Poetry Society of America. 6:30–8pm. poetrysociety.org \n
URL:https://sfbaytimes.com/event/poetry-reading-celebration-muni-art-2018-charif-shanahan/
END:VEVENT
END:VCALENDAR