BEGIN:VCALENDAR
VERSION:2.0
PRODID:-//San Francisco Bay Times - ECPv5.1.0//NONSGML v1.0//EN
CALSCALE:GREGORIAN
METHOD:PUBLISH
X-WR-CALNAME:San Francisco Bay Times
X-ORIGINAL-URL:https://sfbaytimes.com
X-WR-CALDESC:Events for San Francisco Bay Times
BEGIN:VTIMEZONE
TZID:America/Los_Angeles
BEGIN:DAYLIGHT
TZOFFSETFROM:-0800
TZOFFSETTO:-0700
TZNAME:PDT
DTSTART:20180311T100000
END:DAYLIGHT
BEGIN:STANDARD
TZOFFSETFROM:-0700
TZOFFSETTO:-0800
TZNAME:PST
DTSTART:20181104T090000
END:STANDARD
END:VTIMEZONE
BEGIN:VEVENT
DTSTART;TZID=America/Los_Angeles:20181012T180000
DTEND;TZID=America/Los_Angeles:20181012T180000
DTSTAMP:20260420T090007
CREATED:20181006T213707Z
LAST-MODIFIED:20181006T213707Z
UID:19870-1539367200-1539367200@sfbaytimes.com
SUMMARY:PRC MIghty Real Gala
DESCRIPTION:@ Four Seasons Hotel\, 757 Market Street. Featuring a reception\, live and silent auctions and dinner followed by dancing with DJ Lamont\, the evening celebrates PRC’s restructuring and goals for the future. 6pm. http://www.prcsf.org \n
URL:https://sfbaytimes.com/event/prc-mighty-real-gala/
END:VEVENT
END:VCALENDAR