BEGIN:VCALENDAR
VERSION:2.0
PRODID:-//San Francisco Bay Times - ECPv5.1.0//NONSGML v1.0//EN
CALSCALE:GREGORIAN
METHOD:PUBLISH
X-WR-CALNAME:San Francisco Bay Times
X-ORIGINAL-URL:https://sfbaytimes.com
X-WR-CALDESC:Events for San Francisco Bay Times
BEGIN:VTIMEZONE
TZID:America/Los_Angeles
BEGIN:DAYLIGHT
TZOFFSETFROM:-0800
TZOFFSETTO:-0700
TZNAME:PDT
DTSTART:20170312T100000
END:DAYLIGHT
BEGIN:STANDARD
TZOFFSETFROM:-0700
TZOFFSETTO:-0800
TZNAME:PST
DTSTART:20171105T090000
END:STANDARD
END:VTIMEZONE
BEGIN:VEVENT
DTSTART;TZID=America/Los_Angeles:20170630T190000
DTEND;TZID=America/Los_Angeles:20170630T190000
DTSTAMP:20260422T214744
CREATED:20170620T210117Z
LAST-MODIFIED:20170620T210117Z
UID:12731-1498849200-1498849200@sfbaytimes.com
SUMMARY:Pride Celebration at Redwood Café
DESCRIPTION:@ Redwood Café Coffee House\, 8240 Old Redwood Highway\, Cotati. A Pride celebration featuring live music\, dancing and emcees from the Russian River Sisters of Perpetual Indulgence. 7-11:30pm. redwoodcafe.com \n
URL:https://sfbaytimes.com/event/pride-celebration-at-redwood-cafe/
END:VEVENT
END:VCALENDAR