BEGIN:VCALENDAR
VERSION:2.0
PRODID:-//San Francisco Bay Times - ECPv5.1.0//NONSGML v1.0//EN
CALSCALE:GREGORIAN
METHOD:PUBLISH
X-WR-CALNAME:San Francisco Bay Times
X-ORIGINAL-URL:https://sfbaytimes.com
X-WR-CALDESC:Events for San Francisco Bay Times
BEGIN:VTIMEZONE
TZID:America/Los_Angeles
BEGIN:DAYLIGHT
TZOFFSETFROM:-0800
TZOFFSETTO:-0700
TZNAME:PDT
DTSTART:20170312T100000
END:DAYLIGHT
BEGIN:STANDARD
TZOFFSETFROM:-0700
TZOFFSETTO:-0800
TZNAME:PST
DTSTART:20171105T090000
END:STANDARD
END:VTIMEZONE
BEGIN:VEVENT
DTSTART;VALUE=DATE:20170622
DTEND;VALUE=DATE:20170623
DTSTAMP:20260422T061656
CREATED:20170620T202829Z
LAST-MODIFIED:20170620T202829Z
UID:12671-1498089600-1498089600@sfbaytimes.com
SUMMARY:Pride Conversation with LGBTQ Leaders of the Democratic Party
DESCRIPTION:@ SEIU 1021\, 350 Rhode Island Street. Hosted by the San Francisco Young Democrats\, the discussion features timely topics addressed by speakers Mark Leno\, Scott Wiener\, Andrea Shorter and Adam S. Mehis. sfyd.org \n
URL:https://sfbaytimes.com/event/pride-conversation-with-lgbtq-leaders-of-the-democratic-party/
END:VEVENT
END:VCALENDAR