BEGIN:VCALENDAR
VERSION:2.0
PRODID:-//San Francisco Bay Times - ECPv5.1.0//NONSGML v1.0//EN
CALSCALE:GREGORIAN
METHOD:PUBLISH
X-WR-CALNAME:San Francisco Bay Times
X-ORIGINAL-URL:https://sfbaytimes.com
X-WR-CALDESC:Events for San Francisco Bay Times
BEGIN:VTIMEZONE
TZID:America/Los_Angeles
BEGIN:DAYLIGHT
TZOFFSETFROM:-0800
TZOFFSETTO:-0700
TZNAME:PDT
DTSTART:20170312T100000
END:DAYLIGHT
BEGIN:STANDARD
TZOFFSETFROM:-0700
TZOFFSETTO:-0800
TZNAME:PST
DTSTART:20171105T090000
END:STANDARD
END:VTIMEZONE
BEGIN:VEVENT
DTSTART;TZID=America/Los_Angeles:20170610T200000
DTEND;TZID=America/Los_Angeles:20170610T200000
DTSTAMP:20260424T164553
CREATED:20170607T215321Z
LAST-MODIFIED:20170607T215431Z
UID:12479-1497124800-1497124800@sfbaytimes.com
SUMMARY:Pride Month Celebration with Sonia disappear fear
DESCRIPTION:\n@ St Cyprian’s Church\, 2097 Turk Street. Cyprian’s Women in Music Series presents the artist described as the “female Dylan.” 8pm. sflivearts.org\n\n\n\n
URL:https://sfbaytimes.com/event/pride-month-celebration-with-sonia-disappear-fear/
END:VEVENT
END:VCALENDAR