BEGIN:VCALENDAR
VERSION:2.0
PRODID:-//San Francisco Bay Times - ECPv5.1.0//NONSGML v1.0//EN
CALSCALE:GREGORIAN
METHOD:PUBLISH
X-WR-CALNAME:San Francisco Bay Times
X-ORIGINAL-URL:https://sfbaytimes.com
X-WR-CALDESC:Events for San Francisco Bay Times
BEGIN:VTIMEZONE
TZID:America/Los_Angeles
BEGIN:DAYLIGHT
TZOFFSETFROM:-0800
TZOFFSETTO:-0700
TZNAME:PDT
DTSTART:20170312T100000
END:DAYLIGHT
BEGIN:STANDARD
TZOFFSETFROM:-0700
TZOFFSETTO:-0800
TZNAME:PST
DTSTART:20171105T090000
END:STANDARD
END:VTIMEZONE
BEGIN:VEVENT
DTSTART;TZID=America/Los_Angeles:20170609T200000
DTEND;TZID=America/Los_Angeles:20170701T170000
DTSTAMP:20260425T034846
CREATED:20170607T213757Z
LAST-MODIFIED:20170607T213757Z
UID:12465-1497038400-1498928400@sfbaytimes.com
SUMMARY:Priscilla\, Queen of the Desert – The Musical
DESCRIPTION:@ Eureka Theatre\, 215 Jackson Street at Battery. Directed by Theatre Rhino’s John Fisher\, the musical performance includes trannies\, drag shows and the thematic focuses on Down Under and what we do for love. Continues through July 1. 8pm. therhino.org\n\n
URL:https://sfbaytimes.com/event/priscilla-queen-of-the-desert-the-musical/
END:VEVENT
END:VCALENDAR