BEGIN:VCALENDAR
VERSION:2.0
PRODID:-//San Francisco Bay Times - ECPv5.1.0//NONSGML v1.0//EN
CALSCALE:GREGORIAN
METHOD:PUBLISH
X-WR-CALNAME:San Francisco Bay Times
X-ORIGINAL-URL:https://sfbaytimes.com
X-WR-CALDESC:Events for San Francisco Bay Times
BEGIN:VTIMEZONE
TZID:America/Los_Angeles
BEGIN:DAYLIGHT
TZOFFSETFROM:-0800
TZOFFSETTO:-0700
TZNAME:PDT
DTSTART:20170312T100000
END:DAYLIGHT
BEGIN:STANDARD
TZOFFSETFROM:-0700
TZOFFSETTO:-0800
TZNAME:PST
DTSTART:20171105T090000
END:STANDARD
END:VTIMEZONE
BEGIN:VEVENT
DTSTART;TZID=America/Los_Angeles:20170927T190000
DTEND;TZID=America/Los_Angeles:20170927T190000
DTSTAMP:20260422T173209
CREATED:20170922T214931Z
LAST-MODIFIED:20170922T214931Z
UID:14317-1506538800-1506538800@sfbaytimes.com
SUMMARY:The Psychedelic Book Club
DESCRIPTION:@ Dog Eared Books Castro\, 489 Castro Street. The Club will discuss Acid Test by Tom Schroeder\, a book about the lives of the founder of the Multidisciplinary Association for Psychedelic Studies and of a soldier who receives MDMA-PTSD treatment 7pm.\ndogearedbooks.com \n
URL:https://sfbaytimes.com/event/psychedelic-book-club/
END:VEVENT
END:VCALENDAR