BEGIN:VCALENDAR
VERSION:2.0
PRODID:-//San Francisco Bay Times - ECPv5.1.0//NONSGML v1.0//EN
CALSCALE:GREGORIAN
METHOD:PUBLISH
X-WR-CALNAME:San Francisco Bay Times
X-ORIGINAL-URL:https://sfbaytimes.com
X-WR-CALDESC:Events for San Francisco Bay Times
BEGIN:VTIMEZONE
TZID:America/Los_Angeles
BEGIN:DAYLIGHT
TZOFFSETFROM:-0800
TZOFFSETTO:-0700
TZNAME:PDT
DTSTART:20190310T100000
END:DAYLIGHT
BEGIN:STANDARD
TZOFFSETFROM:-0700
TZOFFSETTO:-0800
TZNAME:PST
DTSTART:20191103T090000
END:STANDARD
END:VTIMEZONE
BEGIN:VEVENT
DTSTART;TZID=America/Los_Angeles:20190408T193000
DTEND;TZID=America/Los_Angeles:20190408T213000
DTSTAMP:20260420T161537
CREATED:20190403T222813Z
LAST-MODIFIED:20190403T222813Z
UID:22599-1554751800-1554759000@sfbaytimes.com
SUMMARY:Pubquiz at Virgil’s Sea Room
DESCRIPTION:@ 3152 Mission Street. Hosted by The Big Queer Pubquiz\, the event includes five rounds of quizzes based on general knowledge and current events\, with a surprise theme round\, a this-or-that guessing game\, a music round and the Powernerd Challenge; free drinks and weird prizes. 7:30-9:30pm. http://www.virgilssf.com \n
URL:https://sfbaytimes.com/event/pubquiz-virgils-sea-room-2/
END:VEVENT
END:VCALENDAR