BEGIN:VCALENDAR
VERSION:2.0
PRODID:-//San Francisco Bay Times - ECPv5.1.0//NONSGML v1.0//EN
CALSCALE:GREGORIAN
METHOD:PUBLISH
X-WR-CALNAME:San Francisco Bay Times
X-ORIGINAL-URL:https://sfbaytimes.com
X-WR-CALDESC:Events for San Francisco Bay Times
BEGIN:VTIMEZONE
TZID:America/Los_Angeles
BEGIN:DAYLIGHT
TZOFFSETFROM:-0800
TZOFFSETTO:-0700
TZNAME:PDT
DTSTART:20190310T100000
END:DAYLIGHT
BEGIN:STANDARD
TZOFFSETFROM:-0700
TZOFFSETTO:-0800
TZNAME:PST
DTSTART:20191103T090000
END:STANDARD
END:VTIMEZONE
BEGIN:VEVENT
DTSTART;TZID=America/Los_Angeles:20190503T080000
DTEND;TZID=America/Los_Angeles:20190503T170000
DTSTAMP:20260420T143232
CREATED:20190501T210050Z
LAST-MODIFIED:20190501T210050Z
UID:22981-1556870400-1556902800@sfbaytimes.com
SUMMARY:QACON ’19 (Queer and Asian Conference)
DESCRIPTION:@ University of California\, Berkeley. This three-day student-run conference devoted to queer and Asian identities is the only conference of its kind at the collegiate level. The event is open to all and HIV testing and information will be provided. http://www.qacon.org \n
URL:https://sfbaytimes.com/event/qacon-19-queer-asian-conference/
END:VEVENT
END:VCALENDAR