BEGIN:VCALENDAR
VERSION:2.0
PRODID:-//San Francisco Bay Times - ECPv5.1.0//NONSGML v1.0//EN
CALSCALE:GREGORIAN
METHOD:PUBLISH
X-WR-CALNAME:San Francisco Bay Times
X-ORIGINAL-URL:https://sfbaytimes.com
X-WR-CALDESC:Events for San Francisco Bay Times
BEGIN:VTIMEZONE
TZID:America/Los_Angeles
BEGIN:DAYLIGHT
TZOFFSETFROM:-0800
TZOFFSETTO:-0700
TZNAME:PDT
DTSTART:20190310T100000
END:DAYLIGHT
BEGIN:STANDARD
TZOFFSETFROM:-0700
TZOFFSETTO:-0800
TZNAME:PST
DTSTART:20191103T090000
END:STANDARD
END:VTIMEZONE
BEGIN:VEVENT
DTSTART;TZID=America/Los_Angeles:20190124T170000
DTEND;TZID=America/Los_Angeles:20190124T200000
DTSTAMP:20260420T094928
CREATED:20190124T224017Z
LAST-MODIFIED:20190124T224017Z
UID:21597-1548349200-1548360000@sfbaytimes.com
SUMMARY:QTPOC Screening of Pariah
DESCRIPTION:@ Strut\, 470 Castro Street. Queer & Trans People of Color at Strut presents the film about a black teen fighting for and embracing her queer identity. 5-8p. http://www.strutsf.org \n
URL:https://sfbaytimes.com/event/qtpoc-screening-pariah/
END:VEVENT
END:VCALENDAR