BEGIN:VCALENDAR
VERSION:2.0
PRODID:-//San Francisco Bay Times - ECPv5.1.0//NONSGML v1.0//EN
CALSCALE:GREGORIAN
METHOD:PUBLISH
X-WR-CALNAME:San Francisco Bay Times
X-ORIGINAL-URL:https://sfbaytimes.com
X-WR-CALDESC:Events for San Francisco Bay Times
BEGIN:VTIMEZONE
TZID:America/Los_Angeles
BEGIN:DAYLIGHT
TZOFFSETFROM:-0800
TZOFFSETTO:-0700
TZNAME:PDT
DTSTART:20170312T100000
END:DAYLIGHT
BEGIN:STANDARD
TZOFFSETFROM:-0700
TZOFFSETTO:-0800
TZNAME:PST
DTSTART:20171105T090000
END:STANDARD
END:VTIMEZONE
BEGIN:VEVENT
DTSTART;TZID=America/Los_Angeles:20170924T120000
DTEND;TZID=America/Los_Angeles:20170924T140000
DTSTAMP:20260422T110313
CREATED:20170921T232308Z
LAST-MODIFIED:20170921T232308Z
UID:14298-1506254400-1506261600@sfbaytimes.com
SUMMARY:Queer Babe Folsom Brunch
DESCRIPTION:@ The Pink Elephant Alibi Gastropub\, 142 Minna Street. A big queer brunch pre-Folsom. 12-2pm. Queer Babe Folsom Brunch on facebook.com \n
URL:https://sfbaytimes.com/event/queer-babe-folsom-brunch/
END:VEVENT
END:VCALENDAR