BEGIN:VCALENDAR
VERSION:2.0
PRODID:-//San Francisco Bay Times - ECPv5.1.0//NONSGML v1.0//EN
CALSCALE:GREGORIAN
METHOD:PUBLISH
X-WR-CALNAME:San Francisco Bay Times
X-ORIGINAL-URL:https://sfbaytimes.com
X-WR-CALDESC:Events for San Francisco Bay Times
BEGIN:VTIMEZONE
TZID:America/Los_Angeles
BEGIN:DAYLIGHT
TZOFFSETFROM:-0800
TZOFFSETTO:-0700
TZNAME:PDT
DTSTART:20190310T100000
END:DAYLIGHT
BEGIN:STANDARD
TZOFFSETFROM:-0700
TZOFFSETTO:-0800
TZNAME:PST
DTSTART:20191103T090000
END:STANDARD
END:VTIMEZONE
BEGIN:VEVENT
DTSTART;VALUE=DATE:20190520
DTEND;VALUE=DATE:20190521
DTSTAMP:20260420T161706
CREATED:20190515T220324Z
LAST-MODIFIED:20190515T220324Z
UID:23196-1558310400-1558396799@sfbaytimes.com
SUMMARY:Queer California: Stories Reign Supreme Exhibit
DESCRIPTION:@ Oakland Museum of California\, 1000 Oak Street. Experience social activism through contemporary artwork and historical materials\, and view rarely-seen artifacts\, archival documents\, photographs\, costumes\, and ephemera. http://www.museumca.org  \n
URL:https://sfbaytimes.com/event/queer-california-stories-reign-supreme-exhibit/
END:VEVENT
END:VCALENDAR