BEGIN:VCALENDAR
VERSION:2.0
PRODID:-//San Francisco Bay Times - ECPv5.1.0//NONSGML v1.0//EN
CALSCALE:GREGORIAN
METHOD:PUBLISH
X-WR-CALNAME:San Francisco Bay Times
X-ORIGINAL-URL:https://sfbaytimes.com
X-WR-CALDESC:Events for San Francisco Bay Times
BEGIN:VTIMEZONE
TZID:America/Los_Angeles
BEGIN:DAYLIGHT
TZOFFSETFROM:-0800
TZOFFSETTO:-0700
TZNAME:PDT
DTSTART:20190310T100000
END:DAYLIGHT
BEGIN:STANDARD
TZOFFSETFROM:-0700
TZOFFSETTO:-0800
TZNAME:PST
DTSTART:20191103T090000
END:STANDARD
END:VTIMEZONE
BEGIN:VEVENT
DTSTART;TZID=America/Los_Angeles:20190506T080000
DTEND;TZID=America/Los_Angeles:20190506T170000
DTSTAMP:20260420T174803
CREATED:20190501T212835Z
LAST-MODIFIED:20190501T212835Z
UID:23001-1557129600-1557162000@sfbaytimes.com
SUMMARY:Queer Stories Reign Supreme Exhibit
DESCRIPTION:@ Oakland Museum of California\, 1000 Oak Street. The four-month exhibition includes historical materials\, artifacts and archival documents along with representatives of social activism\, contemporary artwork\, costumes and ephemera. http://www.museumca.org \n
URL:https://sfbaytimes.com/event/queer-stories-reign-supreme-exhibit-2/
END:VEVENT
END:VCALENDAR