BEGIN:VCALENDAR
VERSION:2.0
PRODID:-//San Francisco Bay Times - ECPv5.1.0//NONSGML v1.0//EN
CALSCALE:GREGORIAN
METHOD:PUBLISH
X-WR-CALNAME:San Francisco Bay Times
X-ORIGINAL-URL:https://sfbaytimes.com
X-WR-CALDESC:Events for San Francisco Bay Times
BEGIN:VTIMEZONE
TZID:America/Los_Angeles
BEGIN:DAYLIGHT
TZOFFSETFROM:-0800
TZOFFSETTO:-0700
TZNAME:PDT
DTSTART:20170312T100000
END:DAYLIGHT
BEGIN:STANDARD
TZOFFSETFROM:-0700
TZOFFSETTO:-0800
TZNAME:PST
DTSTART:20171105T090000
END:STANDARD
END:VTIMEZONE
BEGIN:VEVENT
DTSTART;TZID=America/Los_Angeles:20170811T183000
DTEND;TZID=America/Los_Angeles:20170811T213000
DTSTAMP:20260423T145323
CREATED:20170809T230751Z
LAST-MODIFIED:20170809T230751Z
UID:13544-1502476200-1502487000@sfbaytimes.com
SUMMARY:Queerly Tèhuäntin | Cuir Us Opening Reception
DESCRIPTION:@ Galeria de la Raza\, 2857 24th Street. A celebration of the new exhibit\, exploring the struggle to express nonconventional\nsexualities and nonnormative gender identities among Mexican or Chicanx and queer or “cuir” individuals. 6:30-9:30pm.\ngaleriadelaraza.org \n
URL:https://sfbaytimes.com/event/queerly-tehuantin-cuir-us-opening-reception/
END:VEVENT
END:VCALENDAR