BEGIN:VCALENDAR
VERSION:2.0
PRODID:-//San Francisco Bay Times - ECPv5.1.0//NONSGML v1.0//EN
CALSCALE:GREGORIAN
METHOD:PUBLISH
X-WR-CALNAME:San Francisco Bay Times
X-ORIGINAL-URL:https://sfbaytimes.com
X-WR-CALDESC:Events for San Francisco Bay Times
BEGIN:VTIMEZONE
TZID:America/Los_Angeles
BEGIN:DAYLIGHT
TZOFFSETFROM:-0800
TZOFFSETTO:-0700
TZNAME:PDT
DTSTART:20190310T100000
END:DAYLIGHT
BEGIN:STANDARD
TZOFFSETFROM:-0700
TZOFFSETTO:-0800
TZNAME:PST
DTSTART:20191103T090000
END:STANDARD
END:VTIMEZONE
BEGIN:VEVENT
DTSTART;TZID=America/Los_Angeles:20190506T193000
DTEND;TZID=America/Los_Angeles:20190506T193000
DTSTAMP:20260420T174658
CREATED:20190501T212736Z
LAST-MODIFIED:20190501T212910Z
UID:22999-1557171000-1557171000@sfbaytimes.com
SUMMARY:REAF’s One Night Only Benefit Cabaret
DESCRIPTION:@ Oasis\, 298 11th Street. The touring cast of the Broadway show Roald Dahl’s Charlie and the Chocolate Factory will present an evening of music\, dance and comedy supporting the work of the Richmond/Ermet Aid Foundation (REAF). 7:30pm. http://www.reaf.org \n
URL:https://sfbaytimes.com/event/reafs-one-night-benefit-cabaret/
END:VEVENT
END:VCALENDAR