BEGIN:VCALENDAR
VERSION:2.0
PRODID:-//San Francisco Bay Times - ECPv5.1.0//NONSGML v1.0//EN
CALSCALE:GREGORIAN
METHOD:PUBLISH
X-WR-CALNAME:San Francisco Bay Times
X-ORIGINAL-URL:https://sfbaytimes.com
X-WR-CALDESC:Events for San Francisco Bay Times
BEGIN:VTIMEZONE
TZID:America/Los_Angeles
BEGIN:DAYLIGHT
TZOFFSETFROM:-0800
TZOFFSETTO:-0700
TZNAME:PDT
DTSTART:20170312T100000
END:DAYLIGHT
BEGIN:STANDARD
TZOFFSETFROM:-0700
TZOFFSETTO:-0800
TZNAME:PST
DTSTART:20171105T090000
END:STANDARD
END:VTIMEZONE
BEGIN:VEVENT
DTSTART;TZID=America/Los_Angeles:20170605T193000
DTEND;TZID=America/Los_Angeles:20170605T193000
DTSTAMP:20260425T232137
CREATED:20170518T142516Z
LAST-MODIFIED:20170518T143244Z
UID:12435-1496691000-1496691000@sfbaytimes.com
SUMMARY:REAF’s One Night Only with the cast of Hamilton
DESCRIPTION:@ Marines’ Memorial Theatre\, 609 Sutter Street (at Mason St.)\, 2nd Level. Join cast members from the touring cast of the Tony Award-winning Broadway show Hamilton for an evening of music\, dance and comedy. 7:30pm. reaf-sf.org \n
URL:https://sfbaytimes.com/event/reafs-one-night-only-wit-the-cast-of-hamilton/
END:VEVENT
END:VCALENDAR