BEGIN:VCALENDAR
VERSION:2.0
PRODID:-//San Francisco Bay Times - ECPv5.1.0//NONSGML v1.0//EN
CALSCALE:GREGORIAN
METHOD:PUBLISH
X-WR-CALNAME:San Francisco Bay Times
X-ORIGINAL-URL:https://sfbaytimes.com
X-WR-CALDESC:Events for San Francisco Bay Times
BEGIN:VTIMEZONE
TZID:America/Los_Angeles
BEGIN:DAYLIGHT
TZOFFSETFROM:-0800
TZOFFSETTO:-0700
TZNAME:PDT
DTSTART:20180311T100000
END:DAYLIGHT
BEGIN:STANDARD
TZOFFSETFROM:-0700
TZOFFSETTO:-0800
TZNAME:PST
DTSTART:20181104T090000
END:STANDARD
END:VTIMEZONE
BEGIN:VEVENT
DTSTART;TZID=America/Los_Angeles:20180924T193000
DTEND;TZID=America/Los_Angeles:20180924T223000
DTSTAMP:20260419T234116
CREATED:20180923T201616Z
LAST-MODIFIED:20180923T201633Z
UID:19610-1537817400-1537828200@sfbaytimes.com
SUMMARY:REAF’s One Night Only with Phantom of the Opera + On Your Feet
DESCRIPTION:@ Marines’ Memorial Theatre\, 609 Sutter Street. Benefiting the Richmond-Ermet Aid Foundation\, a non-profit which raises funds for service provides assisting survivors of HIV/AIDS\, breast cancer and other issues. 7:30-10:30pm. http://www.reaf.org \n
URL:https://sfbaytimes.com/event/reafs-one-night-phantom-opera-feet/
END:VEVENT
END:VCALENDAR