BEGIN:VCALENDAR
VERSION:2.0
PRODID:-//San Francisco Bay Times - ECPv5.1.0//NONSGML v1.0//EN
CALSCALE:GREGORIAN
METHOD:PUBLISH
X-WR-CALNAME:San Francisco Bay Times
X-ORIGINAL-URL:https://sfbaytimes.com
X-WR-CALDESC:Events for San Francisco Bay Times
BEGIN:VTIMEZONE
TZID:America/Los_Angeles
BEGIN:DAYLIGHT
TZOFFSETFROM:-0800
TZOFFSETTO:-0700
TZNAME:PDT
DTSTART:20170312T100000
END:DAYLIGHT
BEGIN:STANDARD
TZOFFSETFROM:-0700
TZOFFSETTO:-0800
TZNAME:PST
DTSTART:20171105T090000
END:STANDARD
END:VTIMEZONE
BEGIN:VEVENT
DTSTART;TZID=America/Los_Angeles:20171114T180000
DTEND;TZID=America/Los_Angeles:20171114T193000
DTSTAMP:20260423T192137
CREATED:20171101T185254Z
LAST-MODIFIED:20171101T185254Z
UID:14962-1510682400-1510687800@sfbaytimes.com
SUMMARY:Rebels\, Gender Rebels Outsiders
DESCRIPTION:@ San Francisco Public Library\, Latino/Hispanic Rms\, 100 Larkin Street. An audio visual book presentation by with authors Renate Stendhal\, Meg Allen and Lucy Gray about women breaking expectations and defying convention. 6-7:30pm. sfpl.org \n
URL:https://sfbaytimes.com/event/rebels-gender-rebels-outsiders/
END:VEVENT
END:VCALENDAR