BEGIN:VCALENDAR
VERSION:2.0
PRODID:-//San Francisco Bay Times - ECPv5.1.0//NONSGML v1.0//EN
CALSCALE:GREGORIAN
METHOD:PUBLISH
X-WR-CALNAME:San Francisco Bay Times
X-ORIGINAL-URL:https://sfbaytimes.com
X-WR-CALDESC:Events for San Francisco Bay Times
BEGIN:VTIMEZONE
TZID:America/Los_Angeles
BEGIN:DAYLIGHT
TZOFFSETFROM:-0800
TZOFFSETTO:-0700
TZNAME:PDT
DTSTART:20180311T100000
END:DAYLIGHT
BEGIN:STANDARD
TZOFFSETFROM:-0700
TZOFFSETTO:-0800
TZNAME:PST
DTSTART:20181104T090000
END:STANDARD
END:VTIMEZONE
BEGIN:VEVENT
DTSTART;TZID=America/Los_Angeles:20180125T190000
DTEND;TZID=America/Los_Angeles:20180125T190000
DTSTAMP:20260425T121811
CREATED:20180125T230531Z
LAST-MODIFIED:20180125T230531Z
UID:16354-1516906800-1516906800@sfbaytimes.com
SUMMARY:Rent: The 20th Anniversary Tour
DESCRIPTION:@ San Jose Center for Performing Arts\, 255 S. Almaden Boulevard\, San Jose. Inspired by Puccini’s La Boheme\, Rent is considered one of the most important musicals ever produced. The story follows a band of bohemians who are struggling to keep their heads above water. 7:30pm. Additional times and dates through January 28.   \nsan-jose-theater.com \n
URL:https://sfbaytimes.com/event/rent-20th-anniversary-tour-2/
END:VEVENT
END:VCALENDAR