BEGIN:VCALENDAR
VERSION:2.0
PRODID:-//San Francisco Bay Times - ECPv5.1.0//NONSGML v1.0//EN
CALSCALE:GREGORIAN
METHOD:PUBLISH
X-WR-CALNAME:San Francisco Bay Times
X-ORIGINAL-URL:https://sfbaytimes.com
X-WR-CALDESC:Events for San Francisco Bay Times
BEGIN:VTIMEZONE
TZID:America/Los_Angeles
BEGIN:DAYLIGHT
TZOFFSETFROM:-0800
TZOFFSETTO:-0700
TZNAME:PDT
DTSTART:20180311T100000
END:DAYLIGHT
BEGIN:STANDARD
TZOFFSETFROM:-0700
TZOFFSETTO:-0800
TZNAME:PST
DTSTART:20181104T090000
END:STANDARD
END:VTIMEZONE
BEGIN:VEVENT
DTSTART;TZID=America/Los_Angeles:20180123T193000
DTEND;TZID=America/Los_Angeles:20180123T193000
DTSTAMP:20260425T121832
CREATED:20180116T032758Z
LAST-MODIFIED:20180116T032758Z
UID:16242-1516735800-1516735800@sfbaytimes.com
SUMMARY:Rent: The 20th Anniversary Tour
DESCRIPTION:@ San Jose Center for Performing Arts\, 255 S. Almaden Boulevard\, San Jose. Inspired by Puccini’s La Boheme\, Rent is considered one of the most important musicals. The story follows a band of bohemians who are struggling to keep their heads above water. 7:30pm. Additional times and dates through January 28.  san-jose-theater.com \n
URL:https://sfbaytimes.com/event/rent-20th-anniversary-tour/
END:VEVENT
END:VCALENDAR