BEGIN:VCALENDAR
VERSION:2.0
PRODID:-//San Francisco Bay Times - ECPv5.1.0//NONSGML v1.0//EN
CALSCALE:GREGORIAN
METHOD:PUBLISH
X-WR-CALNAME:San Francisco Bay Times
X-ORIGINAL-URL:https://sfbaytimes.com
X-WR-CALDESC:Events for San Francisco Bay Times
BEGIN:VTIMEZONE
TZID:America/Los_Angeles
BEGIN:DAYLIGHT
TZOFFSETFROM:-0800
TZOFFSETTO:-0700
TZNAME:PDT
DTSTART:20180311T100000
END:DAYLIGHT
BEGIN:STANDARD
TZOFFSETFROM:-0700
TZOFFSETTO:-0800
TZNAME:PST
DTSTART:20181104T090000
END:STANDARD
END:VTIMEZONE
BEGIN:VEVENT
DTSTART;TZID=America/Los_Angeles:20180125T193000
DTEND;TZID=America/Los_Angeles:20180125T193000
DTSTAMP:20260425T121643
CREATED:20180125T230243Z
LAST-MODIFIED:20180125T230243Z
UID:16350-1516908600-1516908600@sfbaytimes.com
SUMMARY:Ricky Gervais
DESCRIPTION:@ The Masonic\, 1111 California Street. The award-winning British comedian will return to San Francisco to present Humanity\, his first stand-up show in seven years. 7:30pm.  \nsfmasonic.com \n
URL:https://sfbaytimes.com/event/ricky-gervais/
END:VEVENT
END:VCALENDAR