BEGIN:VCALENDAR
VERSION:2.0
PRODID:-//San Francisco Bay Times - ECPv5.1.0//NONSGML v1.0//EN
CALSCALE:GREGORIAN
METHOD:PUBLISH
X-WR-CALNAME:San Francisco Bay Times
X-ORIGINAL-URL:https://sfbaytimes.com
X-WR-CALDESC:Events for San Francisco Bay Times
BEGIN:VTIMEZONE
TZID:America/Los_Angeles
BEGIN:DAYLIGHT
TZOFFSETFROM:-0800
TZOFFSETTO:-0700
TZNAME:PDT
DTSTART:20180311T100000
END:DAYLIGHT
BEGIN:STANDARD
TZOFFSETFROM:-0700
TZOFFSETTO:-0800
TZNAME:PST
DTSTART:20181104T090000
END:STANDARD
END:VTIMEZONE
BEGIN:VEVENT
DTSTART;TZID=America/Los_Angeles:20180929T190000
DTEND;TZID=America/Los_Angeles:20180929T190000
DTSTAMP:20260419T220821
CREATED:20180923T204434Z
LAST-MODIFIED:20180923T204434Z
UID:19650-1538247600-1538247600@sfbaytimes.com
SUMMARY:The Roast of Donna Sachet
DESCRIPTION:@ Castro Theatre\, 429 Castro Street. Produced by Oasis SF and Peaches Christ Productions with Emcee Bruce Vilanch\, the event will benefit the LGBT Museum of San Francisco. 7pm. http://www.castrotheatre.com \n
URL:https://sfbaytimes.com/event/roast-donna-sachet/
END:VEVENT
END:VCALENDAR