BEGIN:VCALENDAR
VERSION:2.0
PRODID:-//San Francisco Bay Times - ECPv5.1.0//NONSGML v1.0//EN
CALSCALE:GREGORIAN
METHOD:PUBLISH
X-WR-CALNAME:San Francisco Bay Times
X-ORIGINAL-URL:https://sfbaytimes.com
X-WR-CALDESC:Events for San Francisco Bay Times
BEGIN:VTIMEZONE
TZID:America/Los_Angeles
BEGIN:DAYLIGHT
TZOFFSETFROM:-0800
TZOFFSETTO:-0700
TZNAME:PDT
DTSTART:20180311T100000
END:DAYLIGHT
BEGIN:STANDARD
TZOFFSETFROM:-0700
TZOFFSETTO:-0800
TZNAME:PST
DTSTART:20181104T090000
END:STANDARD
END:VTIMEZONE
BEGIN:VEVENT
DTSTART;TZID=America/Los_Angeles:20180308T090000
DTEND;TZID=America/Los_Angeles:20180308T210000
DTSTAMP:20260424T085047
CREATED:20180309T175502Z
LAST-MODIFIED:20180309T175502Z
UID:17037-1520499600-1520542800@sfbaytimes.com
SUMMARY:Robert Rauschenberg: Erasing the Rules Exhibit
DESCRIPTION:@ San Francisco Museum of Modern Art\, 151 Third Street. The exhibit includes more than 150 of the artist’s works demonstrating how he broke down boundaries between disciplines and redefined what art could be. Through March 25. Closed on Tuesdays. sfmoma.org \n
URL:https://sfbaytimes.com/event/robert-rauschenberg-erasing-rules-exhibit/
END:VEVENT
END:VCALENDAR