BEGIN:VCALENDAR
VERSION:2.0
PRODID:-//San Francisco Bay Times - ECPv5.1.0//NONSGML v1.0//EN
CALSCALE:GREGORIAN
METHOD:PUBLISH
X-WR-CALNAME:San Francisco Bay Times
X-ORIGINAL-URL:https://sfbaytimes.com
X-WR-CALDESC:Events for San Francisco Bay Times
BEGIN:VTIMEZONE
TZID:America/Los_Angeles
BEGIN:DAYLIGHT
TZOFFSETFROM:-0800
TZOFFSETTO:-0700
TZNAME:PDT
DTSTART:20170312T100000
END:DAYLIGHT
BEGIN:STANDARD
TZOFFSETFROM:-0700
TZOFFSETTO:-0800
TZNAME:PST
DTSTART:20171105T090000
END:STANDARD
END:VTIMEZONE
BEGIN:VEVENT
DTSTART;TZID=America/Los_Angeles:20170921T193000
DTEND;TZID=America/Los_Angeles:20170921T193000
DTSTAMP:20260422T062404
CREATED:20170921T230116Z
LAST-MODIFIED:20170921T230116Z
UID:14281-1506022200-1506022200@sfbaytimes.com
SUMMARY:Rosh Hashana Services
DESCRIPTION:@ Herbst Theatre\, 401 Van Ness. Congregation Sha’ar Zahav invites Jewish friends and supporters to celebrate Jewish New Year services and reception.\n7:30pm. Continues on Sept. 22\, 9:30am with Rosh Hashana services\, Sha’ar Zahav\, 290 Dolores Street; September 29 Kol Nidre services\, Herbst Theatre\, 401 Van Ness; and Sept. 30\, 9:30am\, Yom Kippur services\, Herbst Theatre.\nshaarzahav.org \n
URL:https://sfbaytimes.com/event/rosh-hashana-services/
END:VEVENT
END:VCALENDAR