BEGIN:VCALENDAR
VERSION:2.0
PRODID:-//San Francisco Bay Times - ECPv5.1.0//NONSGML v1.0//EN
CALSCALE:GREGORIAN
METHOD:PUBLISH
X-WR-CALNAME:San Francisco Bay Times
X-ORIGINAL-URL:https://sfbaytimes.com
X-WR-CALDESC:Events for San Francisco Bay Times
BEGIN:VTIMEZONE
TZID:America/Los_Angeles
BEGIN:DAYLIGHT
TZOFFSETFROM:-0800
TZOFFSETTO:-0700
TZNAME:PDT
DTSTART:20170312T100000
END:DAYLIGHT
BEGIN:STANDARD
TZOFFSETFROM:-0700
TZOFFSETTO:-0800
TZNAME:PST
DTSTART:20171105T090000
END:STANDARD
END:VTIMEZONE
BEGIN:VEVENT
DTSTART;TZID=America/Los_Angeles:20170812T100000
DTEND;TZID=America/Los_Angeles:20170812T190000
DTSTAMP:20260423T120158
CREATED:20170809T231002Z
LAST-MODIFIED:20170809T231002Z
UID:13548-1502532000-1502564400@sfbaytimes.com
SUMMARY:The Rosie Rally: Guinness Book of World Records Event
DESCRIPTION:@ Craneway Pavilion\, Ford Assembly Plant\, 1414 Harbour Way South\, Richmond. An attempt to break the world record for “The Largest Gathering of People Dressed as a Rosie the Riveter” (10am-12pm) followed by the Home Front Festival (12pm-7pm) with The Klipptones\, USS Potomac and more. rosietheriveter.org \n
URL:https://sfbaytimes.com/event/rosie-rally-guinness-book-world-records-event/
END:VEVENT
END:VCALENDAR