BEGIN:VCALENDAR
VERSION:2.0
PRODID:-//San Francisco Bay Times - ECPv5.1.0//NONSGML v1.0//EN
CALSCALE:GREGORIAN
METHOD:PUBLISH
X-WR-CALNAME:San Francisco Bay Times
X-ORIGINAL-URL:https://sfbaytimes.com
X-WR-CALDESC:Events for San Francisco Bay Times
BEGIN:VTIMEZONE
TZID:America/Los_Angeles
BEGIN:DAYLIGHT
TZOFFSETFROM:-0800
TZOFFSETTO:-0700
TZNAME:PDT
DTSTART:20170312T100000
END:DAYLIGHT
BEGIN:STANDARD
TZOFFSETFROM:-0700
TZOFFSETTO:-0800
TZNAME:PST
DTSTART:20171105T090000
END:STANDARD
END:VTIMEZONE
BEGIN:VEVENT
DTSTART;TZID=America/Los_Angeles:20170621T163000
DTEND;TZID=America/Los_Angeles:20170621T173000
DTSTAMP:20260422T153457
CREATED:20170608T155319Z
LAST-MODIFIED:20170608T155319Z
UID:12644-1498062600-1498066200@sfbaytimes.com
SUMMARY:Rumba in the Castro
DESCRIPTION:@ Jane Warner Plaza\, Market and Castro Streets. Hosted by Emily Coles Dance SF\, the event features sultry same-sex rumba demo\, social dancing plus info about the upcoming documentary film Hot to Trot on the history of competitive ballroom dancing. 4:30-5:30pm. emilycolesdancesf.com\n\n
URL:https://sfbaytimes.com/event/rumba-in-the-castro/
END:VEVENT
END:VCALENDAR