BEGIN:VCALENDAR
VERSION:2.0
PRODID:-//San Francisco Bay Times - ECPv5.1.0//NONSGML v1.0//EN
CALSCALE:GREGORIAN
METHOD:PUBLISH
X-WR-CALNAME:San Francisco Bay Times
X-ORIGINAL-URL:https://sfbaytimes.com
X-WR-CALDESC:Events for San Francisco Bay Times
BEGIN:VTIMEZONE
TZID:America/Los_Angeles
BEGIN:DAYLIGHT
TZOFFSETFROM:-0800
TZOFFSETTO:-0700
TZNAME:PDT
DTSTART:20170312T100000
END:DAYLIGHT
BEGIN:STANDARD
TZOFFSETFROM:-0700
TZOFFSETTO:-0800
TZNAME:PST
DTSTART:20171105T090000
END:STANDARD
END:VTIMEZONE
BEGIN:VEVENT
DTSTART;TZID=America/Los_Angeles:20170908T180000
DTEND;TZID=America/Los_Angeles:20170908T210000
DTSTAMP:20260421T112808
CREATED:20170906T015859Z
LAST-MODIFIED:20170906T015919Z
UID:13984-1504893600-1504904400@sfbaytimes.com
SUMMARY:Out Run Special Screening
DESCRIPTION:@ San Mateo County Pride\, 1021 S. El Camino Real\, San Mateo.  Directors S. Leo Chiang and Johnny Symons will attend the screening of their award-winning film on the challenges transgender and all LGBT people face as they transition ino the mainstream and fight for dignity\, legitimacy and acceptance. sanmateopride.org or 650-591-0133\n
URL:https://sfbaytimes.com/event/run-special-screening/
END:VEVENT
END:VCALENDAR