BEGIN:VCALENDAR
VERSION:2.0
PRODID:-//San Francisco Bay Times - ECPv5.1.0//NONSGML v1.0//EN
CALSCALE:GREGORIAN
METHOD:PUBLISH
X-WR-CALNAME:San Francisco Bay Times
X-ORIGINAL-URL:https://sfbaytimes.com
X-WR-CALDESC:Events for San Francisco Bay Times
BEGIN:VTIMEZONE
TZID:America/Los_Angeles
BEGIN:DAYLIGHT
TZOFFSETFROM:-0800
TZOFFSETTO:-0700
TZNAME:PDT
DTSTART:20170312T100000
END:DAYLIGHT
BEGIN:STANDARD
TZOFFSETFROM:-0700
TZOFFSETTO:-0800
TZNAME:PST
DTSTART:20171105T090000
END:STANDARD
END:VTIMEZONE
BEGIN:VEVENT
DTSTART;TZID=America/Los_Angeles:20170626T170000
DTEND;TZID=America/Los_Angeles:20170626T170000
DTSTAMP:20260422T030857
CREATED:20170620T204924Z
LAST-MODIFIED:20170620T204924Z
UID:12709-1498496400-1498496400@sfbaytimes.com
SUMMARY:San Francisco Giants LGBT Pride Night
DESCRIPTION:@ AT&T Park\, 24 Willlie Mays Plaza. The annual LGBT pre-game party in Parking Lot A with limited edition Giants scarfs\, followed by the game v. Colorado Rockies. 5:00 pm. sfgiants.com/specialevents \n
URL:https://sfbaytimes.com/event/san-francisco-giants-lgbt-pride-night/
END:VEVENT
END:VCALENDAR