BEGIN:VCALENDAR
VERSION:2.0
PRODID:-//San Francisco Bay Times - ECPv5.1.0//NONSGML v1.0//EN
CALSCALE:GREGORIAN
METHOD:PUBLISH
X-WR-CALNAME:San Francisco Bay Times
X-ORIGINAL-URL:https://sfbaytimes.com
X-WR-CALDESC:Events for San Francisco Bay Times
BEGIN:VTIMEZONE
TZID:America/Los_Angeles
BEGIN:DAYLIGHT
TZOFFSETFROM:-0800
TZOFFSETTO:-0700
TZNAME:PDT
DTSTART:20170312T100000
END:DAYLIGHT
BEGIN:STANDARD
TZOFFSETFROM:-0700
TZOFFSETTO:-0800
TZNAME:PST
DTSTART:20171105T090000
END:STANDARD
END:VTIMEZONE
BEGIN:VEVENT
DTSTART;VALUE=DATE:20170720
DTEND;VALUE=DATE:20170807
DTSTAMP:20260422T013252
CREATED:20170712T201036Z
LAST-MODIFIED:20170712T201324Z
UID:12903-1500508800-1502063999@sfbaytimes.com
SUMMARY:San Francisco Jewish Film Festival
DESCRIPTION:@ the Castro Theater\, 429 Castro Street\, CA 94103. Daily showtimes from July 20\, 2017 thru August 6\, 2017. For a full schedule of films and showtimes\, visit the Jewish Film Festival home page. \n
URL:https://sfbaytimes.com/event/san-francisco-jewish-film-festival/
END:VEVENT
END:VCALENDAR