BEGIN:VCALENDAR
VERSION:2.0
PRODID:-//San Francisco Bay Times - ECPv5.1.0//NONSGML v1.0//EN
CALSCALE:GREGORIAN
METHOD:PUBLISH
X-WR-CALNAME:San Francisco Bay Times
X-ORIGINAL-URL:https://sfbaytimes.com
X-WR-CALDESC:Events for San Francisco Bay Times
BEGIN:VTIMEZONE
TZID:America/Los_Angeles
BEGIN:DAYLIGHT
TZOFFSETFROM:-0800
TZOFFSETTO:-0700
TZNAME:PDT
DTSTART:20170312T100000
END:DAYLIGHT
BEGIN:STANDARD
TZOFFSETFROM:-0700
TZOFFSETTO:-0800
TZNAME:PST
DTSTART:20171105T090000
END:STANDARD
END:VTIMEZONE
BEGIN:VEVENT
DTSTART;TZID=America/Los_Angeles:20170719T190000
DTEND;TZID=America/Los_Angeles:20170719T190000
DTSTAMP:20260421T221211
CREATED:20170714T173532Z
LAST-MODIFIED:20170714T173532Z
UID:13076-1500490800-1500490800@sfbaytimes.com
SUMMARY:San Francisco Mime Troupe’s Walls
DESCRIPTION:@ Edoff Memorial Band Stand\, Lakeside Park\, Lake Merritt\, Oakland. The acclaimed troupe presents their new show\, addressing the question\, “How can a nation of immigrants declare war on immigration?” on various dates throughout the Bay Area through September 10. 7pm. sfmt.org \n
URL:https://sfbaytimes.com/event/san-francisco-mime-troupes-walls/
END:VEVENT
END:VCALENDAR