BEGIN:VCALENDAR
VERSION:2.0
PRODID:-//San Francisco Bay Times - ECPv5.1.0//NONSGML v1.0//EN
CALSCALE:GREGORIAN
METHOD:PUBLISH
X-WR-CALNAME:San Francisco Bay Times
X-ORIGINAL-URL:https://sfbaytimes.com
X-WR-CALDESC:Events for San Francisco Bay Times
BEGIN:VTIMEZONE
TZID:America/Los_Angeles
BEGIN:DAYLIGHT
TZOFFSETFROM:-0800
TZOFFSETTO:-0700
TZNAME:PDT
DTSTART:20170312T100000
END:DAYLIGHT
BEGIN:STANDARD
TZOFFSETFROM:-0700
TZOFFSETTO:-0800
TZNAME:PST
DTSTART:20171105T090000
END:STANDARD
END:VTIMEZONE
BEGIN:VEVENT
DTSTART;TZID=America/Los_Angeles:20170709T140000
DTEND;TZID=America/Los_Angeles:20170709T140000
DTSTAMP:20260421T192148
CREATED:20170620T214149Z
LAST-MODIFIED:20170620T214149Z
UID:12771-1499608800-1499608800@sfbaytimes.com
SUMMARY:San Francisco Symphony Concert at the Stern Grove Festival
DESCRIPTION:@ Stern Grove\, 19th Avenue and Sloat Boulevard. The free concert features a program of music by Mozart\, Bizet Ravel and more. 2pm. sterngrove.org \n
URL:https://sfbaytimes.com/event/san-francisco-symphony-concert-at-the-stern-grove-festival/
END:VEVENT
END:VCALENDAR