BEGIN:VCALENDAR
VERSION:2.0
PRODID:-//San Francisco Bay Times - ECPv5.1.0//NONSGML v1.0//EN
CALSCALE:GREGORIAN
METHOD:PUBLISH
X-WR-CALNAME:San Francisco Bay Times
X-ORIGINAL-URL:https://sfbaytimes.com
X-WR-CALDESC:Events for San Francisco Bay Times
BEGIN:VTIMEZONE
TZID:America/Los_Angeles
BEGIN:DAYLIGHT
TZOFFSETFROM:-0800
TZOFFSETTO:-0700
TZNAME:PDT
DTSTART:20170312T100000
END:DAYLIGHT
BEGIN:STANDARD
TZOFFSETFROM:-0700
TZOFFSETTO:-0800
TZNAME:PST
DTSTART:20171105T090000
END:STANDARD
END:VTIMEZONE
BEGIN:VEVENT
DTSTART;VALUE=DATE:20171110
DTEND;VALUE=DATE:20171111
DTSTAMP:20260424T181318
CREATED:20171101T184244Z
LAST-MODIFIED:20171101T184244Z
UID:14934-1510272000-1510358399@sfbaytimes.com
SUMMARY:San Francisco Transgender Film Festival
DESCRIPTION:@ Roxie Theater\, 3125 !6th Street. Celebrating the 10th year of the first of its kind event\, the three-day festival presents a program of films promoting transgender and gender-variant visibility\, culture and community. Continues Novemer 11 & 12. sftff.org \n
URL:https://sfbaytimes.com/event/san-francisco-transgender-film-festival/
END:VEVENT
END:VCALENDAR