BEGIN:VCALENDAR
VERSION:2.0
PRODID:-//San Francisco Bay Times - ECPv5.1.0//NONSGML v1.0//EN
CALSCALE:GREGORIAN
METHOD:PUBLISH
X-WR-CALNAME:San Francisco Bay Times
X-ORIGINAL-URL:https://sfbaytimes.com
X-WR-CALDESC:Events for San Francisco Bay Times
BEGIN:VTIMEZONE
TZID:America/Los_Angeles
BEGIN:DAYLIGHT
TZOFFSETFROM:-0800
TZOFFSETTO:-0700
TZNAME:PDT
DTSTART:20170312T100000
END:DAYLIGHT
BEGIN:STANDARD
TZOFFSETFROM:-0700
TZOFFSETTO:-0800
TZNAME:PST
DTSTART:20171105T090000
END:STANDARD
END:VTIMEZONE
BEGIN:VEVENT
DTSTART;TZID=America/Los_Angeles:20170908T181500
DTEND;TZID=America/Los_Angeles:20170908T181500
DTSTAMP:20260421T112947
CREATED:20170908T210800Z
LAST-MODIFIED:20170908T210800Z
UID:14101-1504894500-1504894500@sfbaytimes.com
SUMMARY:San Mateo Pride Screening of Out Run
DESCRIPTION:@ The San Mateo County Pride Center\, 1021 South El Camino Real\, San Mateo. Directors S. Leo Chiang and Johnny Symons will discuss their documentary film about the work of transgender woman Benrz Benedito’s life in the Philippines. 6:15pm.  sanmateopride.org \n
URL:https://sfbaytimes.com/event/san-mateo-pride-screening-run/
END:VEVENT
END:VCALENDAR