BEGIN:VCALENDAR
VERSION:2.0
PRODID:-//San Francisco Bay Times - ECPv5.1.0//NONSGML v1.0//EN
CALSCALE:GREGORIAN
METHOD:PUBLISH
X-WR-CALNAME:San Francisco Bay Times
X-ORIGINAL-URL:https://sfbaytimes.com
X-WR-CALDESC:Events for San Francisco Bay Times
BEGIN:VTIMEZONE
TZID:America/Los_Angeles
BEGIN:DAYLIGHT
TZOFFSETFROM:-0800
TZOFFSETTO:-0700
TZNAME:PDT
DTSTART:20170312T100000
END:DAYLIGHT
BEGIN:STANDARD
TZOFFSETFROM:-0700
TZOFFSETTO:-0800
TZNAME:PST
DTSTART:20171105T090000
END:STANDARD
END:VTIMEZONE
BEGIN:VEVENT
DTSTART;VALUE=DATE:20170821
DTEND;VALUE=DATE:20171208
DTSTAMP:20260421T113213
CREATED:20170810T171225Z
LAST-MODIFIED:20170810T171225Z
UID:13671-1503273600-1512691199@sfbaytimes.com
SUMMARY:The Seen: What You Would Have Seen on Haight Street in 1967
DESCRIPTION:@ SF Public Library Park Branch\, 1833 Page Street. An exhibit of then and now photos providing a walk down memory lane of the Haight-Ashbury scene from 1967. Through December 7. sfpl.org \n
URL:https://sfbaytimes.com/event/seen-seen-haight-street-1967/
END:VEVENT
END:VCALENDAR