BEGIN:VCALENDAR
VERSION:2.0
PRODID:-//San Francisco Bay Times - ECPv5.1.0//NONSGML v1.0//EN
CALSCALE:GREGORIAN
METHOD:PUBLISH
X-WR-CALNAME:San Francisco Bay Times
X-ORIGINAL-URL:https://sfbaytimes.com
X-WR-CALDESC:Events for San Francisco Bay Times
BEGIN:VTIMEZONE
TZID:America/Los_Angeles
BEGIN:DAYLIGHT
TZOFFSETFROM:-0800
TZOFFSETTO:-0700
TZNAME:PDT
DTSTART:20180311T100000
END:DAYLIGHT
BEGIN:STANDARD
TZOFFSETFROM:-0700
TZOFFSETTO:-0800
TZNAME:PST
DTSTART:20181104T090000
END:STANDARD
END:VTIMEZONE
BEGIN:VEVENT
DTSTART;TZID=America/Los_Angeles:20180305T150000
DTEND;TZID=America/Los_Angeles:20180305T160000
DTSTAMP:20260424T102042
CREATED:20180223T040412Z
LAST-MODIFIED:20180223T040412Z
UID:16905-1520262000-1520265600@sfbaytimes.com
SUMMARY:Seismic Safety Workshops
DESCRIPTION:@ Openhouse\, 55 Laguna Street\, 2nd Fl. Community Rm. A six-part series of workshops begins where you can find out how to be better prepared for potential disasters and emergencies. 3–4pm. amy@openhouse-sf.org \n
URL:https://sfbaytimes.com/event/seismic-safety-workshops/
END:VEVENT
END:VCALENDAR