BEGIN:VCALENDAR
VERSION:2.0
PRODID:-//San Francisco Bay Times - ECPv5.1.0//NONSGML v1.0//EN
CALSCALE:GREGORIAN
METHOD:PUBLISH
X-WR-CALNAME:San Francisco Bay Times
X-ORIGINAL-URL:https://sfbaytimes.com
X-WR-CALDESC:Events for San Francisco Bay Times
BEGIN:VTIMEZONE
TZID:America/Los_Angeles
BEGIN:DAYLIGHT
TZOFFSETFROM:-0800
TZOFFSETTO:-0700
TZNAME:PDT
DTSTART:20170312T100000
END:DAYLIGHT
BEGIN:STANDARD
TZOFFSETFROM:-0700
TZOFFSETTO:-0800
TZNAME:PST
DTSTART:20171105T090000
END:STANDARD
END:VTIMEZONE
BEGIN:VEVENT
DTSTART;TZID=America/Los_Angeles:20170923T180000
DTEND;TZID=America/Los_Angeles:20170923T180000
DTSTAMP:20260422T111851
CREATED:20170921T232132Z
LAST-MODIFIED:20170921T232132Z
UID:14294-1506189600-1506189600@sfbaytimes.com
SUMMARY:SF Ducal Coronation XLIV
DESCRIPTION:@ Hotel Whitcomb\, 1231 Market Street. A Night of Russian Disko is the theme of the annual event where the new Duke and Duchess are crowned. 6pm.\nsfducal.org \n
URL:https://sfbaytimes.com/event/sf-ducal-coronation-xliv/
END:VEVENT
END:VCALENDAR