BEGIN:VCALENDAR
VERSION:2.0
PRODID:-//San Francisco Bay Times - ECPv5.1.0//NONSGML v1.0//EN
CALSCALE:GREGORIAN
METHOD:PUBLISH
X-WR-CALNAME:San Francisco Bay Times
X-ORIGINAL-URL:https://sfbaytimes.com
X-WR-CALDESC:Events for San Francisco Bay Times
BEGIN:VTIMEZONE
TZID:America/Los_Angeles
BEGIN:DAYLIGHT
TZOFFSETFROM:-0800
TZOFFSETTO:-0700
TZNAME:PDT
DTSTART:20170312T100000
END:DAYLIGHT
BEGIN:STANDARD
TZOFFSETFROM:-0700
TZOFFSETTO:-0800
TZNAME:PST
DTSTART:20171105T090000
END:STANDARD
END:VTIMEZONE
BEGIN:VEVENT
DTSTART;TZID=America/Los_Angeles:20170611T130000
DTEND;TZID=America/Los_Angeles:20170611T150000
DTSTAMP:20260424T114941
CREATED:20170607T215645Z
LAST-MODIFIED:20170607T215645Z
UID:12487-1497186000-1497193200@sfbaytimes.com
SUMMARY:SF Peace and Hope 2017 Fest
DESCRIPTION:@ ANEW Gallery\, 678 Portola Drive. San Francisco Bay Times contributor Kit Kennedy emcee’s a program of poets\, visual artists and musicians. 1-3pm. herchurch.org \n
URL:https://sfbaytimes.com/event/sf-peace-and-hope-2017-fest/
END:VEVENT
END:VCALENDAR