BEGIN:VCALENDAR
VERSION:2.0
PRODID:-//San Francisco Bay Times - ECPv5.1.0//NONSGML v1.0//EN
CALSCALE:GREGORIAN
METHOD:PUBLISH
X-WR-CALNAME:San Francisco Bay Times
X-ORIGINAL-URL:https://sfbaytimes.com
X-WR-CALDESC:Events for San Francisco Bay Times
BEGIN:VTIMEZONE
TZID:America/Los_Angeles
BEGIN:DAYLIGHT
TZOFFSETFROM:-0800
TZOFFSETTO:-0700
TZNAME:PDT
DTSTART:20170312T100000
END:DAYLIGHT
BEGIN:STANDARD
TZOFFSETFROM:-0700
TZOFFSETTO:-0800
TZNAME:PST
DTSTART:20171105T090000
END:STANDARD
END:VTIMEZONE
BEGIN:VEVENT
DTSTART;TZID=America/Los_Angeles:20170703T190000
DTEND;TZID=America/Los_Angeles:20170703T190000
DTSTAMP:20260422T162805
CREATED:20170620T212429Z
LAST-MODIFIED:20170620T212429Z
UID:12745-1499108400-1499108400@sfbaytimes.com
SUMMARY:Sing-A-Long Sound of Music
DESCRIPTION:@ The Castro Theatre\, 429 Castro Street. A sing-a-long presentation of the classic Rogers and Hammerstein musical. 7pm. castrotheatre.com \n
URL:https://sfbaytimes.com/event/sing-a-long-sound-of-music/
END:VEVENT
END:VCALENDAR