BEGIN:VCALENDAR
VERSION:2.0
PRODID:-//San Francisco Bay Times - ECPv5.1.0//NONSGML v1.0//EN
CALSCALE:GREGORIAN
METHOD:PUBLISH
X-WR-CALNAME:San Francisco Bay Times
X-ORIGINAL-URL:https://sfbaytimes.com
X-WR-CALDESC:Events for San Francisco Bay Times
BEGIN:VTIMEZONE
TZID:America/Los_Angeles
BEGIN:DAYLIGHT
TZOFFSETFROM:-0800
TZOFFSETTO:-0700
TZNAME:PDT
DTSTART:20180311T100000
END:DAYLIGHT
BEGIN:STANDARD
TZOFFSETFROM:-0700
TZOFFSETTO:-0800
TZNAME:PST
DTSTART:20181104T090000
END:STANDARD
END:VTIMEZONE
BEGIN:VEVENT
DTSTART;TZID=America/Los_Angeles:20180123T120000
DTEND;TZID=America/Los_Angeles:20180123T133000
DTSTAMP:20260425T121516
CREATED:20180116T032514Z
LAST-MODIFIED:20180116T032514Z
UID:16237-1516708800-1516714200@sfbaytimes.com
SUMMARY:Sister Circle
DESCRIPTION:@ Openhouse\, 55 Laguna. A monthly 4th Tuesday event for women-identified LGBTQ community members to make new connections in a luncheon setting. 12-1:30pm. sylvia@openhouse-sf.org * \n
URL:https://sfbaytimes.com/event/sister-circle-4/
END:VEVENT
END:VCALENDAR