BEGIN:VCALENDAR
VERSION:2.0
PRODID:-//San Francisco Bay Times - ECPv5.1.0//NONSGML v1.0//EN
CALSCALE:GREGORIAN
METHOD:PUBLISH
X-WR-CALNAME:San Francisco Bay Times
X-ORIGINAL-URL:https://sfbaytimes.com
X-WR-CALDESC:Events for San Francisco Bay Times
BEGIN:VTIMEZONE
TZID:America/Los_Angeles
BEGIN:DAYLIGHT
TZOFFSETFROM:-0800
TZOFFSETTO:-0700
TZNAME:PDT
DTSTART:20170312T100000
END:DAYLIGHT
BEGIN:STANDARD
TZOFFSETFROM:-0700
TZOFFSETTO:-0800
TZNAME:PST
DTSTART:20171105T090000
END:STANDARD
END:VTIMEZONE
BEGIN:VEVENT
DTSTART;TZID=America/Los_Angeles:20170816T193000
DTEND;TZID=America/Los_Angeles:20170816T193000
DTSTAMP:20260422T170112
CREATED:20170809T232608Z
LAST-MODIFIED:20170809T232608Z
UID:13574-1502911800-1502911800@sfbaytimes.com
SUMMARY:Smack Dab Open Mic
DESCRIPTION:@ Dog Eared Books Castro\, 489 Castro Street. Co-hosts Dana Hopkins and Larry-bob Roberts welcome Pashtuna writer Kirin Khan discussing her work in multiple genres on issues such as immigration\, violence and belonging. 7:30pm.\ndogearedbooks.com \n
URL:https://sfbaytimes.com/event/smack-dab-open-mic-2/
END:VEVENT
END:VCALENDAR