BEGIN:VCALENDAR
VERSION:2.0
PRODID:-//San Francisco Bay Times - ECPv5.1.0//NONSGML v1.0//EN
CALSCALE:GREGORIAN
METHOD:PUBLISH
X-WR-CALNAME:San Francisco Bay Times
X-ORIGINAL-URL:https://sfbaytimes.com
X-WR-CALDESC:Events for San Francisco Bay Times
BEGIN:VTIMEZONE
TZID:America/Los_Angeles
BEGIN:DAYLIGHT
TZOFFSETFROM:-0800
TZOFFSETTO:-0700
TZNAME:PDT
DTSTART:20190310T100000
END:DAYLIGHT
BEGIN:STANDARD
TZOFFSETFROM:-0700
TZOFFSETTO:-0800
TZNAME:PST
DTSTART:20191103T090000
END:STANDARD
END:VTIMEZONE
BEGIN:VEVENT
DTSTART;TZID=America/Los_Angeles:20190517T190000
DTEND;TZID=America/Los_Angeles:20190517T190000
DTSTAMP:20260420T161409
CREATED:20190515T214639Z
LAST-MODIFIED:20190515T214639Z
UID:23180-1558119600-1558119600@sfbaytimes.com
SUMMARY:Smuin Ballet’s Dance Series 02
DESCRIPTION:@ Walnut Creek\, Mountain View and Carmel locations. Smuin’s 25th Anniversary season’s finale includes dances set to timeless tunes including Gershwin and more. Through June 1. http://www.smuinballet.org \n
URL:https://sfbaytimes.com/event/smuin-ballets-dance-series-02/
END:VEVENT
END:VCALENDAR