BEGIN:VCALENDAR
VERSION:2.0
PRODID:-//San Francisco Bay Times - ECPv5.1.0//NONSGML v1.0//EN
CALSCALE:GREGORIAN
METHOD:PUBLISH
X-WR-CALNAME:San Francisco Bay Times
X-ORIGINAL-URL:https://sfbaytimes.com
X-WR-CALDESC:Events for San Francisco Bay Times
BEGIN:VTIMEZONE
TZID:America/Los_Angeles
BEGIN:DAYLIGHT
TZOFFSETFROM:-0800
TZOFFSETTO:-0700
TZNAME:PDT
DTSTART:20170312T100000
END:DAYLIGHT
BEGIN:STANDARD
TZOFFSETFROM:-0700
TZOFFSETTO:-0800
TZNAME:PST
DTSTART:20171105T090000
END:STANDARD
END:VTIMEZONE
BEGIN:VEVENT
DTSTART;TZID=America/Los_Angeles:20170614T193000
DTEND;TZID=America/Los_Angeles:20170614T193000
DTSTAMP:20260424T024802
CREATED:20170607T220211Z
LAST-MODIFIED:20170607T220211Z
UID:12503-1497468600-1497468600@sfbaytimes.com
SUMMARY:Some Things You Lose
DESCRIPTION:@ African American Art & Culture Complex\, 762 Fulton Street. Hosted by Queer Cultural Center\, comedian Heather Gold and others present multimedia performances on queer lives\, loss\, healing and change. 7:30pm. qcc2.org \n
URL:https://sfbaytimes.com/event/some-things-you-lose/
END:VEVENT
END:VCALENDAR