BEGIN:VCALENDAR
VERSION:2.0
PRODID:-//San Francisco Bay Times - ECPv5.1.0//NONSGML v1.0//EN
CALSCALE:GREGORIAN
METHOD:PUBLISH
X-WR-CALNAME:San Francisco Bay Times
X-ORIGINAL-URL:https://sfbaytimes.com
X-WR-CALDESC:Events for San Francisco Bay Times
BEGIN:VTIMEZONE
TZID:America/Los_Angeles
BEGIN:DAYLIGHT
TZOFFSETFROM:-0800
TZOFFSETTO:-0700
TZNAME:PDT
DTSTART:20170312T100000
END:DAYLIGHT
BEGIN:STANDARD
TZOFFSETFROM:-0700
TZOFFSETTO:-0800
TZNAME:PST
DTSTART:20171105T090000
END:STANDARD
END:VTIMEZONE
BEGIN:VEVENT
DTSTART;TZID=America/Los_Angeles:20170821T190000
DTEND;TZID=America/Los_Angeles:20170821T190000
DTSTAMP:20260421T124240
CREATED:20170810T171357Z
LAST-MODIFIED:20170810T171357Z
UID:13675-1503342000-1503342000@sfbaytimes.com
SUMMARY:Something Rotten
DESCRIPTION:@ SHN Orpheum Theatre\, 1192 Market Street. The story of Nick and Nigel Bottom’s struggle for recognition up against the absurdly popular William Shakespeare. Multiple dates through September 10. orpheumtheatersanfrancsico.org \n
URL:https://sfbaytimes.com/event/something-rotten/
END:VEVENT
END:VCALENDAR